BEGIN:VCALENDAR
VERSION:2.0
PRODID:-//Minority Serving-Cyberinfrastructure Consortium - ECPv6.15.20//NONSGML v1.0//EN
CALSCALE:GREGORIAN
METHOD:PUBLISH
X-ORIGINAL-URL:https://ms-cc.org
X-WR-CALDESC:Events for Minority Serving-Cyberinfrastructure Consortium
REFRESH-INTERVAL;VALUE=DURATION:PT1H
X-Robots-Tag:noindex
X-PUBLISHED-TTL:PT1H
BEGIN:VTIMEZONE
TZID:America/New_York
BEGIN:DAYLIGHT
TZOFFSETFROM:-0500
TZOFFSETTO:-0400
TZNAME:EDT
DTSTART:20230312T070000
END:DAYLIGHT
BEGIN:STANDARD
TZOFFSETFROM:-0400
TZOFFSETTO:-0500
TZNAME:EST
DTSTART:20231105T060000
END:STANDARD
BEGIN:DAYLIGHT
TZOFFSETFROM:-0500
TZOFFSETTO:-0400
TZNAME:EDT
DTSTART:20240310T070000
END:DAYLIGHT
BEGIN:STANDARD
TZOFFSETFROM:-0400
TZOFFSETTO:-0500
TZNAME:EST
DTSTART:20241103T060000
END:STANDARD
BEGIN:DAYLIGHT
TZOFFSETFROM:-0500
TZOFFSETTO:-0400
TZNAME:EDT
DTSTART:20250309T070000
END:DAYLIGHT
BEGIN:STANDARD
TZOFFSETFROM:-0400
TZOFFSETTO:-0500
TZNAME:EST
DTSTART:20251102T060000
END:STANDARD
END:VTIMEZONE
BEGIN:VEVENT
DTSTART;TZID=America/New_York:20240807T080000
DTEND;TZID=America/New_York:20240807T170000
DTSTAMP:20260421T061714
CREATED:20240731T160703Z
LAST-MODIFIED:20240731T160704Z
UID:10000080-1723017600-1723050000@ms-cc.org
SUMMARY:Inaugural 2024 MS-CC Climate Science Research Symposium
DESCRIPTION:In the final week of the climate science internship\, students will have the opportunity to showcase their research at the University of Maryland Eastern Shore in the Carver Hall auditorium. The showcase will provide a platform for student interns to present their research projects and share their experiences. Check out the program agenda!
URL:https://ms-cc.org/event/inaugural-2024-ms-cc-climate-science-research-symposium-2/
LOCATION:Carver Hall Auditorium\, Academic Ovl\, Princess Anne\, MD 21853
END:VEVENT
BEGIN:VEVENT
DTSTART;TZID=America/New_York:20240815T123000
DTEND;TZID=America/New_York:20240815T133000
DTSTAMP:20260421T061714
CREATED:20240124T141813Z
LAST-MODIFIED:20240124T142025Z
UID:10000072-1723725000-1723728600@ms-cc.org
SUMMARY:Consortium Leadership Board (CLB) Meeting
DESCRIPTION:This meeting is reserved for board members and is by invitation only. \nTime: 12:30 – 1:30 p.m. ET
URL:https://ms-cc.org/event/consortium-leadership-board-clb-meeting/2024-08-15/
END:VEVENT
BEGIN:VEVENT
DTSTART;TZID=America/New_York:20240820T140000
DTEND;TZID=America/New_York:20240820T150000
DTSTAMP:20260421T061714
CREATED:20231208T193919Z
LAST-MODIFIED:20241114T195144Z
UID:10000043-1724162400-1724166000@ms-cc.org
SUMMARY:CI Plan Community of Practice
DESCRIPTION:Time: 2:00 – 3:00 p.m. ET \nLocation: Zoom details are distributed via email to the MS-CC mailing list. If you have any questions\, please contact Jennifer Kim and Russell Hofmann.
URL:https://ms-cc.org/event/ci-plan-community-of-practice-meeting-jan-16/2024-08-20/
END:VEVENT
END:VCALENDAR