BEGIN:VCALENDAR
VERSION:2.0
PRODID:-//Minority Serving-Cyberinfrastructure Consortium - ECPv6.15.20//NONSGML v1.0//EN
CALSCALE:GREGORIAN
METHOD:PUBLISH
X-WR-CALNAME:Minority Serving-Cyberinfrastructure Consortium
X-ORIGINAL-URL:https://ms-cc.org
X-WR-CALDESC:Events for Minority Serving-Cyberinfrastructure Consortium
REFRESH-INTERVAL;VALUE=DURATION:PT1H
X-Robots-Tag:noindex
X-PUBLISHED-TTL:PT1H
BEGIN:VTIMEZONE
TZID:America/New_York
BEGIN:DAYLIGHT
TZOFFSETFROM:-0500
TZOFFSETTO:-0400
TZNAME:EDT
DTSTART:20230312T070000
END:DAYLIGHT
BEGIN:STANDARD
TZOFFSETFROM:-0400
TZOFFSETTO:-0500
TZNAME:EST
DTSTART:20231105T060000
END:STANDARD
BEGIN:DAYLIGHT
TZOFFSETFROM:-0500
TZOFFSETTO:-0400
TZNAME:EDT
DTSTART:20240310T070000
END:DAYLIGHT
BEGIN:STANDARD
TZOFFSETFROM:-0400
TZOFFSETTO:-0500
TZNAME:EST
DTSTART:20241103T060000
END:STANDARD
BEGIN:DAYLIGHT
TZOFFSETFROM:-0500
TZOFFSETTO:-0400
TZNAME:EDT
DTSTART:20250309T070000
END:DAYLIGHT
BEGIN:STANDARD
TZOFFSETFROM:-0400
TZOFFSETTO:-0500
TZNAME:EST
DTSTART:20251102T060000
END:STANDARD
END:VTIMEZONE
BEGIN:VEVENT
DTSTART;VALUE=DATE:20240403
DTEND;VALUE=DATE:20240405
DTSTAMP:20260421T061826
CREATED:20240119T210242Z
LAST-MODIFIED:20240403T202010Z
UID:10000062-1712102400-1712275199@ms-cc.org
SUMMARY:MS-CC Workshop at Prairie View A&M University
DESCRIPTION:April 3-4\, 2024 \nPrairie View A&M University in Prairie View\, Texas\, April 3-4\, 2024\, for a cyberinfrastructure and cybersecurity workshop. You can find more information about the workshop here.
URL:https://ms-cc.org/event/ms-cc-workshop-at-prairie-view-am-university/
LOCATION:Prairie View A&M University\, 700 University Drive\, Prairie View\, TX\, 77446\, United States
END:VEVENT
END:VCALENDAR